BEGIN:VCALENDAR
VERSION:2.0
PRODID: -//Q4 Inc.//EN
METHOD:PUBLISH
BEGIN:VTIMEZONE
TZID:America/New_York
X-LIC-LOCATION:America/New_York
BEGIN:DAYLIGHT
TZOFFSETFROM:-0500
TZOFFSETTO:-0400
TZNAME:EDT
DTSTART:19700308T020000
RRULE:FREQ=YEARLY;BYMONTH=3;BYDAY=2SU
END:DAYLIGHT
BEGIN:STANDARD
TZOFFSETFROM:-0400
TZOFFSETTO:-0500
TZNAME:EST
DTSTART:19701101T020000
RRULE:FREQ=YEARLY;BYMONTH=11;BYDAY=1SU
END:STANDARD
END:VTIMEZONE
BEGIN:VEVENT
ORGANIZER:MAILTO:IRT@edelman.com
DTSTART;TZID="America/New_York":20260430T090000
DTEND;TZID="America/New_York":20260430T100000
LOCATION:
UID:2e98f2ae-5510-4d10-8aeb-67a0bc9676c1
DTSTAMP:20260425T130125
SUMMARY:Q1 Earnings Conference Call
DESCRIPTION: View More Information: https://investors.irtliving.com/events/event-details/2026/Q1-Earnings-Conference-Call-/default.aspx
URL;VALUE=URI:https://investors.irtliving.com/events/event-details/2026/Q1-Earnings-Conference-Call-/default.aspx
PRIORITY:5
CLASS:PUBLIC
END:VEVENT
END:VCALENDAR
